BEGIN:VCALENDAR
VERSION:2.0
PRODID:nkc_event TYPO3 Extension
METHOD:PUBLISH
BEGIN:VEVENT
UID:172eb058cb2abc3d7852d65cb633462d
LOCATION:Propst-Torp-Haus (Gemeindehaus) Glücksburg
SUMMARY:DQUOTEEinfach mal raus":" Treffen\, reden\, lachenDQUOTE - Herzliche Einladung!
DESCRIPTION:
CLASS:PUBLIC
DTSTART:20260512T130000Z
DTEND:20260512T143000Z
DTSTAMP:20260426T021407Z
END:VEVENT

END:VCALENDAR