BEGIN:VCALENDAR
VERSION:2.0
PRODID:nkc_event TYPO3 Extension
METHOD:PUBLISH
BEGIN:VEVENT
UID:181bdcd6c8158c70f0fc9eb49a418f7f
LOCATION:Hl Dreieinigkeitskirche (St. Georgskirche)
SUMMARY:Gottesdienst
DESCRIPTION:
CLASS:PUBLIC
DTSTART:20260621T080000Z
DTEND:20260621T090000Z
DTSTAMP:20260420T151918Z
END:VEVENT

END:VCALENDAR