BEGIN:VCALENDAR
VERSION:2.0
PRODID:nkc_event TYPO3 Extension
METHOD:PUBLISH
BEGIN:VEVENT
UID:c6da4985a52844b939e2599a61a60a29
LOCATION:Kompassgemeinde Eivind-Berggrav-Zentrum Altenholz
SUMMARY:YouGo
DESCRIPTION:
CLASS:PUBLIC
DTSTART:20260426T160000Z
DTEND:20260426T170000Z
DTSTAMP:20260422T103936Z
END:VEVENT

END:VCALENDAR