BEGIN:VCALENDAR
VERSION:2.0
PRODID:nkc_event TYPO3 Extension
METHOD:PUBLISH
BEGIN:VEVENT
UID:fc0d33dd9566240d3d81dbaf8cc2acab
LOCATION:Ev.-Luth. Kirchengemeinde Rickling
SUMMARY:Frühstück für Alle
DESCRIPTION:
CLASS:PUBLIC
DTSTART:20260513T073000Z
DTEND:20260513T093000Z
DTSTAMP:20260423T155535Z
END:VEVENT

END:VCALENDAR