BEGIN:VCALENDAR
VERSION:2.0
PRODID:nkc_event TYPO3 Extension
METHOD:PUBLISH
BEGIN:VEVENT
UID:cfee12bbb799f8db23669440e16178ea
LOCATION:Haus der Kirche
SUMMARY:Kinder-und Jugendtreff HdK
DESCRIPTION:Hier im Haus der Kirche wird gebastelt\, mit dem Kicker gespielt\, Musik gehört und am PC Zeit verbracht. Nachmittags setzen wir uns für eine gemütliche Getränke- und Snackrunde zusammen und tauschen Erlebnisse vom Tag aus. In den Ferien finden besondere Angebote statt\, für die eine Anmeldung nötig ist.\nNach der Schule ist hier bei uns der richtige Platz gemeinsam mit Freunden sich zu treffen und zu chillen.\n
CLASS:PUBLIC
DTSTART:20260501T130000Z
DTEND:20260501T170000Z
DTSTAMP:20260422T123844Z
END:VEVENT

END:VCALENDAR