BEGIN:VCALENDAR
VERSION:2.0
PRODID:nkc_event TYPO3 Extension
METHOD:PUBLISH
BEGIN:VEVENT
UID:a1e691dbf59c7f9a247664c8a043f845
LOCATION:Ev. Gemeindehaus Satrup
SUMMARY:Klartext - Bibel im Gespräch
DESCRIPTION:Einmal im Monat treffen wir uns mittwochs von 19":"30 – 20":"30 Uhr im Gemeindehaus\, um miteinander einen Abschnitt aus der Bibel zu lesen und darüber ins Gespräch zu kommen. Wir klären Fragen und suchen gemeinsam nach Antworten. Jeder\, der die Bibel intensiver kennenlernen will und im Glauben wachsen möchte\, ist herzlich eingeladen teilzunehmen.
CLASS:PUBLIC
DTSTART:20260422T173000Z
DTEND:20260422T183000Z
DTSTAMP:20260423T102809Z
END:VEVENT

END:VCALENDAR