BEGIN:VCALENDAR
VERSION:2.0
PRODID:nkc_event TYPO3 Extension
METHOD:PUBLISH
BEGIN:VEVENT
UID:d389bfa24b91d93da0ee4f8b08f7ecd9
LOCATION:Pastor-Sievers-Haus
SUMMARY:Tauferinnerungsgottesdienst mit Pastor Suhr und M.Bae mit dem Kinderchor
DESCRIPTION:
CLASS:PUBLIC
DTSTART:20260525T080000Z
DTEND:20260525T090000Z
DTSTAMP:20260422T090735Z
END:VEVENT

END:VCALENDAR