BEGIN:VCALENDAR
VERSION:2.0
PRODID:nkc_event TYPO3 Extension
METHOD:PUBLISH
BEGIN:VEVENT
UID:8f78001b2f59e784b981f9409bb09c3b
LOCATION:Dom zu Lübeck
SUMMARY:Öffentliche Dom-Führung - der Dom für alle!
DESCRIPTION:Machen Sie eine kunsthistorische Zeitreise von der Romanik bis zur Moderne und lernen diesen jahrhundertealten Ort des Glaubens kennen. Lassen Sie die Würde des Raumes auf sich wirken und gewinnen Abstand zum Alltag.Start wird am Dom-Haupteingang sein. Der Eintritt ist frei. Über eine Spende zum Unterhalt und zur Sanierung dieser Kathedrale würden wir uns freuen.  
CLASS:PUBLIC
DTSTART:20260606T100000Z
DTEND:20260606T110000Z
DTSTAMP:20260425T112832Z
END:VEVENT

END:VCALENDAR