BEGIN:VCALENDAR
VERSION:2.0
PRODID:nkc_event TYPO3 Extension
METHOD:PUBLISH
BEGIN:VEVENT
UID:9bafbd473d53557ca588f8ffc0de2d28
LOCATION:DIGITAL
SUMMARY:Von Herzen reden und hören - Gemeinschaftsabend mit Council
DESCRIPTION:Council ist eine gemeinschaftsbildende Kommunikationsform\, die wir aus den indigenen Traditionen Nordamerikas wieder gelernt haben. Es geht darum\, im Kreis zu sitzen und von Herzen zu reden und zuzuhören.Das genaue Thema legen wir im Vorfeld kurz vorher fest.Diese Veranstaltung ist Teil vom Compagnero.net\, unserer Online Community über Natur und Spiritualität. Der Einladungslink wird über den Compagnero-Verteiler erfolgen. Wer noch nicht Mitglied ist\, kann sich kostenlos und unverbindlich selber registrieren unter www.compagnero.net Termin":" 19. Mai\, 19.30 Uhr bis 21.30 UhrHost":" Joerg UrbschatKosten":" keineAnmeldung / Zugang":" über das Compagnero.net
CLASS:PUBLIC
DTSTART:20260519T173000Z
DTEND:20260519T193000Z
DTSTAMP:20260425T114251Z
END:VEVENT

END:VCALENDAR