BEGIN:VCALENDAR
VERSION:2.0
PRODID:nkc_event TYPO3 Extension
METHOD:PUBLISH
BEGIN:VEVENT
UID:d1a3ead4ef9d42496184d545b31c188b
LOCATION:Evangelisches Zentrum Ostholstein
SUMMARY:Fragen der Gerechtigkeit - DQUOTESünde und StrafeDQUOTE
DESCRIPTION:Unser letzter Workshop im Rahmen der Reihe „Fragen der Gerechtigkeit“ steht unter einem Thema\, das in der feministischen Theologie selten Raum findet":" „Sünde und Strafe“. Sünde bedeutet Fehlverhalten – gegen Gott\, gegen andere Menschen\, gegen die Schöpfung. Verbrechen werden bestraft. Ist damit den Opfern geholfen? Wie kann die biblische Vision der Umkehr für heutige Gesellschaften real werden?Die Veranstaltung findet am Dienstag\, 19. Mai von 18.00 bis 21.00 Uhr im Evangelischen Zentrum in Eutin\, Schloßstr.13 statt.Für die bessere Planung bitten meine Kollegin Astrid Faehling vom Frauenwerk Ostholstein und ich um vorherige Anmeldung (Kontaktdaten s.u.).
CLASS:PUBLIC
DTSTART:20260519T160000Z
DTEND:20260519T190000Z
DTSTAMP:20260422T123442Z
END:VEVENT

END:VCALENDAR