BEGIN:VCALENDAR
VERSION:2.0
PRODID:nkc_event TYPO3 Extension
METHOD:PUBLISH
BEGIN:VEVENT
UID:e9881e1fbb5d43b36f455dd353f8d6df
LOCATION:St. Marien - Schmerzhafte Mutter
SUMMARY:Hl. Messe
DESCRIPTION:
CLASS:PUBLIC
DTSTART:20260426T070000Z
DTEND:20260426T080000Z
DTSTAMP:20260423T141804Z
END:VEVENT

END:VCALENDAR