BEGIN:VCALENDAR
VERSION:2.0
PRODID:nkc_event TYPO3 Extension
METHOD:PUBLISH
BEGIN:VEVENT
UID:2722626b95d4ea03b0c5a245d84bcd65
LOCATION:Gemeindehaus Rickling
SUMMARY:Gottesdienst im Gemeindehaus
DESCRIPTION:
CLASS:PUBLIC
DTSTART:20260531T083000Z
DTEND:20260531T093000Z
DTSTAMP:20260423T160743Z
END:VEVENT

END:VCALENDAR