BEGIN:VCALENDAR
VERSION:2.0
PRODID:nkc_event TYPO3 Extension
METHOD:PUBLISH
BEGIN:VEVENT
UID:8d2c1c58b97aa540d1e9f64106e519db
LOCATION:Vicelin-Kirche St. Jakobi
SUMMARY:Abendmahlgottesdienst DQUOTEBrot und WeinDQUOTE\, Pastorin Egener
DESCRIPTION:
CLASS:PUBLIC
DTSTART:20260426T080000Z
DTEND:20260426T090000Z
DTSTAMP:20260423T171558Z
END:VEVENT

END:VCALENDAR