BEGIN:VCALENDAR
VERSION:2.0
PRODID:nkc_event TYPO3 Extension
METHOD:PUBLISH
BEGIN:VEVENT
UID:243671d45462fd08258d030259a651a1
LOCATION:St. Aegidien Kirche
SUMMARY:»Ich will euch trösten« I. Grayston Ives & John Rutter
DESCRIPTION:Grayston Ives (*1948)RequiemJohn Rutter (*1945)Requiem***Tickets sind an den bekannten Vorverkaufsstellen sowie unter www.luebecker-bachchor.de erhältlich. 
CLASS:PUBLIC
DTSTART:20261107T183000Z
DTEND:20261107T193000Z
DTSTAMP:20260419T153308Z
END:VEVENT

END:VCALENDAR