BEGIN:VCALENDAR
VERSION:2.0
PRODID:nkc_event TYPO3 Extension
METHOD:PUBLISH
BEGIN:VEVENT
UID:183acc3b64bb5d32a50c14d6cde6d8ae
LOCATION:St. Andreas Kirche Haddeby
SUMMARY:Segnungsgottesdienst
DESCRIPTION:
CLASS:PUBLIC
DTSTART:20260426T080000Z
DTEND:20260426T090000Z
DTSTAMP:20260422T015109Z
END:VEVENT

END:VCALENDAR