BEGIN:VCALENDAR
VERSION:2.0
PRODID:nkc_event TYPO3 Extension
METHOD:PUBLISH
BEGIN:VEVENT
UID:4eec14aa688a7482ce5fc339805b79c4
LOCATION:Peter-Paul-Kirche
SUMMARY:Oratorium DQUOTEStern von BethlehemDQUOTE J. Rheinberger
DESCRIPTION:
CLASS:PUBLIC
DTSTART:20261227T180000Z
DTEND:20261227T193000Z
DTSTAMP:20260419T152039Z
END:VEVENT

END:VCALENDAR