BEGIN:VCALENDAR
VERSION:2.0
PRODID:nkc_event TYPO3 Extension
METHOD:PUBLISH
BEGIN:VEVENT
UID:05005bf159df14179fb9dc6cb1a601b1
LOCATION:Ev.-Luth. Melanchthon-Kirchengemeinde Hamburg-Groß Flottbek
SUMMARY:Soul-Workshop mit Marshall Titus
DESCRIPTION:Marshall Titus ist ein bekannter Sänger\, Songwriter und Schauspieler aus Chicago der in Hamburg lebt. Er hilft Dir\, Deine eigene gefühlvolle Stimme zu entdecken und mehr Selbstvertrauen auf der Bühne zu gewinnen. Der Workshop richtet sich an Jugendliche und Erwachsene.Teilnahmegebühr":" 50 Euro  Melde Dich an unter marshalltitusmusic@yahoo.com
CLASS:PUBLIC
DTSTART:20260509T100000Z
DTEND:20260509T130000Z
DTSTAMP:20260419T182320Z
END:VEVENT

END:VCALENDAR