BEGIN:VCALENDAR
VERSION:2.0
PRODID:nkc_event TYPO3 Extension
METHOD:PUBLISH
BEGIN:VEVENT
UID:20b122b499c2c01532deb3da98eeb249
LOCATION:Evangelische Christuskirche Hansühn
SUMMARY:Konfirmation II in der Christuskirche Hansühn\, Pastorin Haustein
DESCRIPTION:
CLASS:PUBLIC
DTSTART:20260517T090000Z
DTEND:20260517T100000Z
DTSTAMP:20260422T123423Z
END:VEVENT

END:VCALENDAR