BEGIN:VCALENDAR
VERSION:2.0
PRODID:nkc_event TYPO3 Extension
METHOD:PUBLISH
BEGIN:VEVENT
UID:e070fd615f81279074570bda048de500
LOCATION:Gemeindehaus II
SUMMARY:ABENTEUERLAND
DESCRIPTION:
CLASS:PUBLIC
DTSTART:20260731T133000Z
DTEND:20260731T143000Z
DTSTAMP:20260425T112148Z
END:VEVENT

END:VCALENDAR