BEGIN:VCALENDAR
VERSION:2.0
PRODID:nkc_event TYPO3 Extension
METHOD:PUBLISH
BEGIN:VEVENT
UID:f3a43265a1bc9ae01247821250437c4c
LOCATION:Friedenskirche
SUMMARY:Vorstellungsgottesdienst
DESCRIPTION:
CLASS:PUBLIC
DTSTART:20260531T080000Z
DTEND:20260531T090000Z
DTSTAMP:20260421T193522Z
END:VEVENT

END:VCALENDAR