BEGIN:VCALENDAR
VERSION:2.0
PRODID:nkc_event TYPO3 Extension
METHOD:PUBLISH
BEGIN:VEVENT
UID:b2a25f7d437bc52a40bbdc557a5739ad
LOCATION:St. Aegidien Kirche
SUMMARY:Johann Sebastian Bach":" »Weihnachts-Oratorium« (Teile I–III)
DESCRIPTION:
CLASS:PUBLIC
DTSTART:20270103T150000Z
DTEND:20270103T160000Z
DTSTAMP:20260419T152039Z
END:VEVENT

END:VCALENDAR