BEGIN:VCALENDAR
VERSION:2.0
PRODID:nkc_event TYPO3 Extension
METHOD:PUBLISH
BEGIN:VEVENT
UID:d2c92de5b15ea810b3a560059167f867
LOCATION:Dorfplatz Rathlau
SUMMARY:Open-Air Gottesdienst am Pfingstsonntag auf dem Dorfplatz Rathlau\, Pastorin Schleupner
DESCRIPTION:
CLASS:PUBLIC
DTSTART:20260524T090000Z
DTEND:20260524T100000Z
DTSTAMP:20260422T141818Z
END:VEVENT

END:VCALENDAR