BEGIN:VCALENDAR
VERSION:2.0
PRODID:nkc_event TYPO3 Extension
METHOD:PUBLISH
BEGIN:VEVENT
UID:dc0268c538e8d975e536ec6be02651b1
LOCATION:St. Georg-Kirche Jevenstedt
SUMMARY:Gottesdienst m. anschl. Gemeindeversammlung
DESCRIPTION:
CLASS:PUBLIC
DTSTART:20261129T090000Z
DTEND:20261129T100000Z
DTSTAMP:20260422T141525Z
END:VEVENT

END:VCALENDAR