BEGIN:VCALENDAR
VERSION:2.0
PRODID:nkc_event TYPO3 Extension
METHOD:PUBLISH
BEGIN:VEVENT
UID:b31fddb63ae50c28caf1dbbe12f7eb46
LOCATION:Martin-Luther-Kirche
SUMMARY:MontagsMusiken
DESCRIPTION:Die Initiative Jugend-Kammermusik gestaltet dieses Konzert der MontagsMusiken. Junge Preisträgerinnen und Preisträger des Wettbewerbs DQUOTEJugend musiziertDQUOTE bringen ein vielseitiges Programm mit nach Alsterdorf. Es erklingt Musik für Streichtrios\, Streichquartette und Streichquintette von Mozart\, Beethoven\, Schubert\, Schostakowitsch und anderen Komponisten.
CLASS:PUBLIC
DTSTART:20260518T170000Z
DTEND:20260518T180000Z
DTSTAMP:20260425T120329Z
END:VEVENT

END:VCALENDAR