BEGIN:VCALENDAR
VERSION:2.0
PRODID:nkc_event TYPO3 Extension
METHOD:PUBLISH
BEGIN:VEVENT
UID:8c2fc45374a84b9363503f83f3489ede
LOCATION:Eppendorfer Landstraßenfest
SUMMARY:Open-Air-Gottesdienst
DESCRIPTION:
CLASS:PUBLIC
DTSTART:20260531T090000Z
DTEND:20260531T100000Z
DTSTAMP:20260422T121045Z
END:VEVENT

END:VCALENDAR