BEGIN:VCALENDAR
VERSION:2.0
PRODID:nkc_event TYPO3 Extension
METHOD:PUBLISH
BEGIN:VEVENT
UID:9e1b680a543c9e77d344a63e48a48ca2
LOCATION:Christus-Kirche Wahlstedt
SUMMARY:Gottesdienst mit Taufe\, Pastor Alf Kristoffersen
DESCRIPTION:
CLASS:PUBLIC
DTSTART:20260531T090000Z
DTEND:20260531T100000Z
DTSTAMP:20260423T141826Z
END:VEVENT

END:VCALENDAR