BEGIN:VCALENDAR
VERSION:2.0
PRODID:nkc_event TYPO3 Extension
METHOD:PUBLISH
BEGIN:VEVENT
UID:c0073b0e5aa8dc73deb26d244da3e309
LOCATION:Anker Gottes-Kirche
SUMMARY:Gottesdienst für Groß & Klein Pastor Daniel Kuhl
DESCRIPTION:
CLASS:PUBLIC
DTSTART:20260315T100000Z
DTEND:20260315T110000Z
DTSTAMP:20260420T091508Z
END:VEVENT

END:VCALENDAR