BEGIN:VCALENDAR
VERSION:2.0
PRODID:nkc_event TYPO3 Extension
METHOD:PUBLISH
BEGIN:VEVENT
UID:ef5cf339e3e943d5eb63c94d67297ffa
LOCATION:Ansgarwiese Haddeby
SUMMARY:Konfirmationsgottesdienst
DESCRIPTION:
CLASS:PUBLIC
DTSTART:20260523T090000Z
DTEND:20260523T100000Z
DTSTAMP:20260422T013943Z
END:VEVENT

END:VCALENDAR