BEGIN:VCALENDAR
VERSION:2.0
PRODID:nkc_event TYPO3 Extension
METHOD:PUBLISH
BEGIN:VEVENT
UID:a865594880f36a51aa71264d7bc709d8
LOCATION:Gemeindehaus I
SUMMARY:Kinderchor ab 5 Jahren
DESCRIPTION:
CLASS:PUBLIC
DTSTART:20260528T133000Z
DTEND:20260528T143000Z
DTSTAMP:20260420T080645Z
END:VEVENT

END:VCALENDAR