BEGIN:VCALENDAR
VERSION:2.0
PRODID:nkc_event TYPO3 Extension
METHOD:PUBLISH
BEGIN:VEVENT
UID:96d654ea82ae4b4a7ed9edc0b03042f6
LOCATION:Gemeindehaus II
SUMMARY:ABENTEUERLAND
DESCRIPTION:
CLASS:PUBLIC
DTSTART:20260911T133000Z
DTEND:20260911T143000Z
DTSTAMP:20260425T112114Z
END:VEVENT

END:VCALENDAR