BEGIN:VCALENDAR
VERSION:2.0
PRODID:nkc_event TYPO3 Extension
METHOD:PUBLISH
BEGIN:VEVENT
UID:246371c439b8a0cd7e340eaec65238f6
LOCATION:Hl Dreieinigkeitskirche (St. Georgskirche)
SUMMARY:This is me! - Queer und religiös? - Gottesdienst von positiv leben&lieben zur Ausstellung
DESCRIPTION:„Wie kannst du gläubig sein und schwul?DQUOTE – „Deine Religion unterdrückt doch queere Menschen! – warum bist du da noch Mitglied?DQUOTE Sätze wie diese hören queere religiöse Menschen immer wieder. Von beiden Seiten. Sie erleben oft\, dass sie sich entscheiden müssten":" entweder ihr Glaube oder ihre Identität. Als wäre beides nicht vereinbar.Aber es gibt sie doch":" Menschen\, die beides leben. Die beten und lieben. Die trans* sind und Torah lesen. Die als lesbisches Paar in der Moschee willkommen sind. Die ihren Glauben nicht trotz\, sondern mit ihrer queeren Identität leben.Die Ausstellung „This is me – queer und religiös?DQUOTE gibt diesen Menschen Raum und Gesicht. Fotografin Ceren Saner porträtiert Menschen aus Judentum\, Christentum\, Islam und Budismus – Menschen\, die zeigen":" Gott liebt mich\, so wie ich bin.Gerade in St. Georg\, wo religiöse Vielfalt und queeres Leben so nah beieinander existieren\, wird unsere Dreieinigkeitskirche sechs Wochen lang zu einem Ort der Begegnung.Alle Infos rund um die Ausstellung erhalten Sie hier
CLASS:PUBLIC
DTSTART:20260531T160000Z
DTEND:20260531T170000Z
DTSTAMP:20260424T091210Z
END:VEVENT

END:VCALENDAR