BEGIN:VCALENDAR
VERSION:2.0
PRODID:nkc_event TYPO3 Extension
METHOD:PUBLISH
BEGIN:VEVENT
UID:a1a1e5a510e550cb3182893dff641b3e
LOCATION:Ansgarhaus Busdorf
SUMMARY:Kochen in Gemeinschaft
DESCRIPTION:
CLASS:PUBLIC
DTSTART:20260507T150000Z
DTEND:20260507T160000Z
DTSTAMP:20260422T013941Z
END:VEVENT

END:VCALENDAR