BEGIN:VCALENDAR
VERSION:2.0
PRODID:nkc_event TYPO3 Extension
METHOD:PUBLISH
BEGIN:VEVENT
UID:009f5308874cf2a0e5c97d17a2cc636c
LOCATION:Friedenskirche
SUMMARY:Gottesdienst mit Bach-Kantate und Taufe
DESCRIPTION:
CLASS:PUBLIC
DTSTART:20260628T080000Z
DTEND:20260628T090000Z
DTSTAMP:20260421T193505Z
END:VEVENT

END:VCALENDAR