BEGIN:VCALENDAR
VERSION:2.0
PRODID:nkc_event TYPO3 Extension
METHOD:PUBLISH
BEGIN:VEVENT
UID:5866b844e33d177ef5e567399371d603
LOCATION:Bauernhof Hamerich in Böbs
SUMMARY:Himmelfahrtsgottesdienst in Böbs
DESCRIPTION:Sie sind herzlich willkommen!
CLASS:PUBLIC
DTSTART:20260514T080000Z
DTEND:20260514T090000Z
DTSTAMP:20260422T041749Z
END:VEVENT

END:VCALENDAR