BEGIN:VCALENDAR
VERSION:2.0
PRODID:nkc_event TYPO3 Extension
METHOD:PUBLISH
BEGIN:VEVENT
UID:63a62302ed7a06aab56282faba9f21af
LOCATION:Hl Dreieinigkeitskirche (St. Georgskirche)
SUMMARY:Gottesdienst positiv leben & lieben zur Ausstellung
DESCRIPTION:Liturgie":"Dorothea Frauböse\, Pastorin\, Hamburg.Björn Henkel\, Pastor\, Hamburg.Predigt":"Dirk Ahrens\, Pastor\, Dozent Ev. Hochschule für Soziale Arbeit & Diakonie\, Hamburg.  Musik":"Martin Schneekloth\, Kantor St. Georg-Borgfelde\, Hamburg.             
CLASS:PUBLIC
DTSTART:20260531T160000Z
DTEND:20260531T170000Z
DTSTAMP:20260420T152052Z
END:VEVENT

END:VCALENDAR