BEGIN:VCALENDAR
VERSION:2.0
PRODID:nkc_event TYPO3 Extension
METHOD:PUBLISH
BEGIN:VEVENT
UID:73350d65cf57d2733d404f5925cd0cd8
LOCATION:St. Laurentius Munkbrarup
SUMMARY:Gottesdienst mit Prädikantin Heidi Krause-Langenheim
DESCRIPTION:
CLASS:PUBLIC
DTSTART:20260419T073000Z
DTEND:20260419T083000Z
DTSTAMP:20260419T154809Z
END:VEVENT

END:VCALENDAR