BEGIN:VCALENDAR
VERSION:2.0
PRODID:nkc_event TYPO3 Extension
METHOD:PUBLISH
BEGIN:VEVENT
UID:f0fff780bdfadad4edf38ecaff4cd9a5
LOCATION:Rimberthaus Fahrdorf
SUMMARY:Seniorencafé
DESCRIPTION:
CLASS:PUBLIC
DTSTART:20260506T123000Z
DTEND:20260506T133000Z
DTSTAMP:20260422T013835Z
END:VEVENT

END:VCALENDAR