BEGIN:VCALENDAR
VERSION:2.0
PRODID:nkc_event TYPO3 Extension
METHOD:PUBLISH
BEGIN:VEVENT
UID:126ec11925d1f93d74206899d08f91d8
LOCATION:Ev.-Luth. Kirchengemeinde Marschlande
SUMMARY:Sitzung des Kirchengemeinderats
DESCRIPTION:
CLASS:PUBLIC
DTSTART:20260723T170000Z
DTEND:20260723T180000Z
DTSTAMP:20260425T112908Z
END:VEVENT

END:VCALENDAR