BEGIN:VCALENDAR
VERSION:2.0
PRODID:nkc_event TYPO3 Extension
METHOD:PUBLISH
BEGIN:VEVENT
UID:e37e5be6a15e7ba7c3d45c5375ea795e
LOCATION:Feuerwehrhaus Willingrade
SUMMARY:Gottesdienst im Feuerwehrhaus Willingrade
DESCRIPTION:
CLASS:PUBLIC
DTSTART:20260425T130000Z
DTEND:20260425T140000Z
DTSTAMP:20260423T162013Z
END:VEVENT

END:VCALENDAR