BEGIN:VCALENDAR
VERSION:2.0
PRODID:nkc_event TYPO3 Extension
METHOD:PUBLISH
BEGIN:VEVENT
UID:5a17951e4e6596a08a0ebdd7034daf10
LOCATION:Marienkirche Havetoft
SUMMARY:Pfingst-Gottesdienst in Havetoft
DESCRIPTION:
CLASS:PUBLIC
DTSTART:20260524T090000Z
DTEND:20260524T100000Z
DTSTAMP:20260425T125503Z
END:VEVENT

END:VCALENDAR