BEGIN:VCALENDAR
VERSION:2.0
PRODID:nkc_event TYPO3 Extension
METHOD:PUBLISH
BEGIN:VEVENT
UID:d9965241d72f4b87927e0182c9bcb5f5
LOCATION:Kirche am Rockenhof
SUMMARY:Gottesdienst für Groß & Klein
DESCRIPTION:„Seid bewegt!“mit Kantorei am Rockenhof\, Leitung":" Timo RinkeIn einem Gottesdienst für Groß & Klein ist jeder Mensch willkommen\, ob Kind oder Erwachsener\, ob allein oder als Familie. In diesem Gottesdienst treffen „traditionelle“ Elemente auf neuere Wege.Leitung":" Pastorin Solveig Nebl-Banek & Team(Pfingstsonntag\,)
CLASS:PUBLIC
DTSTART:20260524T090000Z
DTEND:20260524T100000Z
DTSTAMP:20260424T012452Z
END:VEVENT

END:VCALENDAR