BEGIN:VCALENDAR
VERSION:2.0
PRODID:nkc_event TYPO3 Extension
METHOD:PUBLISH
BEGIN:VEVENT
UID:95d681654a2283380046983ecad0f024
LOCATION:St. Nicolai Quern
SUMMARY:Taizé-Andacht
DESCRIPTION:Gemeinsam beten für den FriedenWir glauben":" Friedensgebete und friedliche Zeichen der Solidarität können etwas verändern!Jeden Freitag um 18 Uhr\, St. Nicolai - Quern (außer in den Ferien!)Taizé-Andacht":" Singen\, Beten\, Texte\, Stille\, Lichter anzünden.
CLASS:PUBLIC
DTSTART:20260508T160000Z
DTEND:20260508T170000Z
DTSTAMP:20260422T104930Z
END:VEVENT

END:VCALENDAR