BEGIN:VCALENDAR
VERSION:2.0
PRODID:nkc_event TYPO3 Extension
METHOD:PUBLISH
BEGIN:VEVENT
UID:5d4db1e16ca34d96e886d12b4a934883
LOCATION:St. Marien
SUMMARY:Entfällt! Entdecke St. Marien - Führung\, guided tour
DESCRIPTION:Deine kostenlose Entdeckungsreise durch die drittgrößte Kirche Deutschlands\, das höchste Backsteingewölbe der Welt - diese Führung führt Dich in eine sehr besondere Atmosphäre!Treffen an der Kanzel.Wir freuen uns über eine Spende zum Erhalt der Marienkirche. 
CLASS:PUBLIC
DTSTART:20260418T130000Z
DTEND:20260418T140000Z
DTSTAMP:20260423T102956Z
END:VEVENT

END:VCALENDAR