BEGIN:VCALENDAR
VERSION:2.0
PRODID:nkc_event TYPO3 Extension
METHOD:PUBLISH
BEGIN:VEVENT
UID:d612bb3c826ae153417124b6819fe0a6
LOCATION:Offene Kirche St. Nikolai in Kiel
SUMMARY:Die Halbe Stunde
DESCRIPTION:In dieser Halben Stunde werden wir gemeinsam das reiche und vielfältige Liedschaffen Paul Gerhardts entdecken. Wir laden ein zu Offenem Singen\, Orgelimprovisation und Chormusik.Der Eintritt ist frei.
CLASS:PUBLIC
DTSTART:20260527T150000Z
DTEND:20260527T153000Z
DTSTAMP:20260420T080543Z
END:VEVENT

END:VCALENDAR