BEGIN:VCALENDAR
VERSION:2.0
PRODID:nkc_event TYPO3 Extension
METHOD:PUBLISH
BEGIN:VEVENT
UID:5e73817c53087754078a0b0b7f6f3a5c
LOCATION:Ev.-Luth. Kirchengemeinde Westerrönfeld
SUMMARY:Altenkreis
DESCRIPTION:Der Altenkreis trifft sich regelmäßig in der Lutherkiche zu festen Terminen.Außerdem gibt es noch besondere Termine\, wie das Osterfrühstück\, Spargelessen\, Sommerfest und Weihnachtsfeier.Bei uns steht die Gemeinschaft im Vordergrund. Wir freuen uns immer über neue Mitglieder!Ansprechpartnerin ist Angela Janiak\; Telefon 04331-80720.
CLASS:PUBLIC
DTSTART:20260429T123000Z
DTEND:20260429T143000Z
DTSTAMP:20260425T114316Z
END:VEVENT

END:VCALENDAR