BEGIN:VCALENDAR
VERSION:2.0
PRODID:nkc_event TYPO3 Extension
METHOD:PUBLISH
BEGIN:VEVENT
UID:fe304fc8a2a666c384f7c16d8a11ddaf
LOCATION:St. Annen Kirche zu Herzhorn
SUMMARY:Konfirmation
DESCRIPTION:Konfirmation mit Pastorin Sylvia Zwierlein
CLASS:PUBLIC
DTSTART:20260426T080000Z
DTEND:20260426T090000Z
DTSTAMP:20260423T220332Z
END:VEVENT

END:VCALENDAR