BEGIN:VCALENDAR
VERSION:2.0
PRODID:nkc_event TYPO3 Extension
METHOD:PUBLISH
BEGIN:VEVENT
UID:4a9d5197b7059fca9328e38a566ed173
LOCATION:Hl Dreieinigkeitskirche (St. Georgskirche)
SUMMARY:Gottesdienst positiv leben & lieben
DESCRIPTION:
CLASS:PUBLIC
DTSTART:20260426T160000Z
DTEND:20260426T170000Z
DTSTAMP:20260420T151920Z
END:VEVENT

END:VCALENDAR