BEGIN:VCALENDAR
VERSION:2.0
PRODID:nkc_event TYPO3 Extension
METHOD:PUBLISH
BEGIN:VEVENT
UID:7781a971a50e2688efea53006846c601
LOCATION:St. Nikolai-Kirche
SUMMARY:Gottesdienst mit Taufe
DESCRIPTION:
CLASS:PUBLIC
DTSTART:20260726T080000Z
DTEND:20260726T090000Z
DTSTAMP:20260420T145134Z
END:VEVENT

END:VCALENDAR