BEGIN:VCALENDAR
VERSION:2.0
PRODID:nkc_event TYPO3 Extension
METHOD:PUBLISH
BEGIN:VEVENT
UID:0879c31b63a6fba8d3216a2bf7aa48c1
LOCATION:Dom zu Lübeck
SUMMARY:Öffentliche Dom-Führung - der Dom für alle!
DESCRIPTION:Machen Sie eine kunsthistorische Zeitreise von der Romanik bis zur Moderne und lernen diesen jahrhundertealten Ort des Glaubens kennen. Lassen Sie die Würde des Raumes auf sich wirken und gewinnen Abstand zum Alltag.Start wird am Dom-Haupteingang sein. Der Eintritt ist frei. Über eine Spende zum Unterhalt und zur Sanierung dieser Kathedrale würden wir uns freuen.  
CLASS:PUBLIC
DTSTART:20260502T100000Z
DTEND:20260502T110000Z
DTSTAMP:20260424T125107Z
END:VEVENT

END:VCALENDAR