BEGIN:VCALENDAR
VERSION:2.0
PRODID:nkc_event TYPO3 Extension
METHOD:PUBLISH
BEGIN:VEVENT
UID:43d8827cee7576952554680be90b0e3c
LOCATION:Gemeindehaus II
SUMMARY:ABENTEUERLAND
DESCRIPTION:
CLASS:PUBLIC
DTSTART:20260612T133000Z
DTEND:20260612T143000Z
DTSTAMP:20260425T112200Z
END:VEVENT

END:VCALENDAR